BEGIN:VCALENDAR
VERSION:2.0
PRODID:-//Early Care Educators of San Francisco - ECPv6.15.20//NONSGML v1.0//EN
CALSCALE:GREGORIAN
METHOD:PUBLISH
X-WR-CALNAME:Early Care Educators of San Francisco
X-ORIGINAL-URL:https://ecesf.org
X-WR-CALDESC:Events for Early Care Educators of San Francisco
REFRESH-INTERVAL;VALUE=DURATION:PT1H
X-Robots-Tag:noindex
X-PUBLISHED-TTL:PT1H
BEGIN:VTIMEZONE
TZID:America/Los_Angeles
BEGIN:DAYLIGHT
TZOFFSETFROM:-0800
TZOFFSETTO:-0700
TZNAME:PDT
DTSTART:20220313T100000
END:DAYLIGHT
BEGIN:STANDARD
TZOFFSETFROM:-0700
TZOFFSETTO:-0800
TZNAME:PST
DTSTART:20221106T090000
END:STANDARD
BEGIN:DAYLIGHT
TZOFFSETFROM:-0800
TZOFFSETTO:-0700
TZNAME:PDT
DTSTART:20230312T100000
END:DAYLIGHT
BEGIN:STANDARD
TZOFFSETFROM:-0700
TZOFFSETTO:-0800
TZNAME:PST
DTSTART:20231105T090000
END:STANDARD
BEGIN:DAYLIGHT
TZOFFSETFROM:-0800
TZOFFSETTO:-0700
TZNAME:PDT
DTSTART:20240310T100000
END:DAYLIGHT
BEGIN:STANDARD
TZOFFSETFROM:-0700
TZOFFSETTO:-0800
TZNAME:PST
DTSTART:20241103T090000
END:STANDARD
END:VTIMEZONE
BEGIN:VEVENT
DTSTART;TZID=America/Los_Angeles:20230117T140000
DTEND;TZID=America/Los_Angeles:20230117T153000
DTSTAMP:20260420T050942
CREATED:20230117T204011Z
LAST-MODIFIED:20230131T193621Z
UID:5327-1673964000-1673969400@ecesf.org
SUMMARY:CPAC Workforce Committee
DESCRIPTION:CPAC Workforce Committee collects input and reviews information on  workforce needs\, the impact of current policy and program\, and the need for additional support or changes that will enhance services and workforce wellbeing.  \n  \nCPAC Workforce meets every 3rd Tuesdays\, 2-3:30 pm \n  \nCommittee Agendas & Meeting Notes available on the CPAC Google Drive \n  \nTo receive calendar invites and Zoom links for all CPAC meetings\, please contact: \nShahde Tavakoli\, CPAC Coordinator \nDirect: 415.309.4900 \nEmail: CPACsanfrancisco@gmail.com \nSign up for the CPAC mailing list! http://eepurl.com/dPCaL5
URL:https://ecesf.org/event/cpac-workforce-committee-4/
LOCATION:zoom meeting
CATEGORIES:ECESF Highlighted
END:VEVENT
END:VCALENDAR