BEGIN:VCALENDAR
VERSION:2.0
PRODID:-//Early Care Educators of San Francisco - ECPv6.15.20//NONSGML v1.0//EN
CALSCALE:GREGORIAN
METHOD:PUBLISH
X-ORIGINAL-URL:https://ecesf.org
X-WR-CALDESC:Events for Early Care Educators of San Francisco
REFRESH-INTERVAL;VALUE=DURATION:PT1H
X-Robots-Tag:noindex
X-PUBLISHED-TTL:PT1H
BEGIN:VTIMEZONE
TZID:America/Los_Angeles
BEGIN:DAYLIGHT
TZOFFSETFROM:-0800
TZOFFSETTO:-0700
TZNAME:PDT
DTSTART:20240310T100000
END:DAYLIGHT
BEGIN:STANDARD
TZOFFSETFROM:-0700
TZOFFSETTO:-0800
TZNAME:PST
DTSTART:20241103T090000
END:STANDARD
BEGIN:DAYLIGHT
TZOFFSETFROM:-0800
TZOFFSETTO:-0700
TZNAME:PDT
DTSTART:20250309T100000
END:DAYLIGHT
BEGIN:STANDARD
TZOFFSETFROM:-0700
TZOFFSETTO:-0800
TZNAME:PST
DTSTART:20251102T090000
END:STANDARD
BEGIN:DAYLIGHT
TZOFFSETFROM:-0800
TZOFFSETTO:-0700
TZNAME:PDT
DTSTART:20260308T100000
END:DAYLIGHT
BEGIN:STANDARD
TZOFFSETFROM:-0700
TZOFFSETTO:-0800
TZNAME:PST
DTSTART:20261101T090000
END:STANDARD
END:VTIMEZONE
BEGIN:VEVENT
DTSTART;TZID=America/Los_Angeles:20251016T130000
DTEND;TZID=America/Los_Angeles:20251016T140000
DTSTAMP:20260422T111235
CREATED:20251016T235048Z
LAST-MODIFIED:20251016T235048Z
UID:6319-1760619600-1760623200@ecesf.org
SUMMARY:CPAC Black Children & Families Workgroup
DESCRIPTION:A G E N D A\n1:00pm Welcome/Introductions\n1:05pm Review and discussion of Ingrid Mezquita’s DEC presentation at Oct 8\nCPAC meeting.\n1:25pm Identify new consistent date/time for workgroup.\n1:35pm Decide 2025-26 workgroup goals\n2:00pm Adjournment
URL:https://ecesf.org/event/cpac-black-children-families-workgroup/
LOCATION:zoom meeting
CATEGORIES:ECESF Highlighted
ORGANIZER;CN="CPAC":MAILTO:CPACsanfrancisco@gmail.com
END:VEVENT
BEGIN:VEVENT
DTSTART;TZID=America/Los_Angeles:20251021T140000
DTEND;TZID=America/Los_Angeles:20251021T153000
DTSTAMP:20260422T111235
CREATED:20251016T235536Z
LAST-MODIFIED:20251021T045510Z
UID:6321-1761055200-1761060600@ecesf.org
SUMMARY:CPAC Workforce Committee Meeting
DESCRIPTION:A committee of CPAC\, San Francisco’s state-mandated local planning council\, the Workforce Committee focuses on evaluating and making recommendations on citywide systems that ensure San Francisco’s early care and education workforce has the resources and skills necessary to provide the highest quality care possible to San Francisco’s children and families. \nFor more information contact: CPAC Coordinator\, cpacsanfrancisco@gmail.com \nFor a full list of CPAC meetings: https://sfcpac.org/meetings/ or alternatively at https://sfcpac.org/committees/
URL:https://ecesf.org/event/cpac-workforce-committee-meeting-oct/
LOCATION:zoom meeting
CATEGORIES:ECESF Highlighted
ORGANIZER;CN="CPAC":MAILTO:CPACsanfrancisco@gmail.com
END:VEVENT
BEGIN:VEVENT
DTSTART;TZID=America/Los_Angeles:20251030T160000
DTEND;TZID=America/Los_Angeles:20251030T180000
DTSTAMP:20260422T111235
CREATED:20251016T234112Z
LAST-MODIFIED:20251024T232103Z
UID:6305-1761840000-1761847200@ecesf.org
SUMMARY:UPK Mixed Delivery Workgroup
DESCRIPTION:Community members are welcome at the UPK Mixed Delivery Workgroup meeting. The Workgroup brings together educators\, families\, and community partners committed to strengthening the city’s high-quality\, equitable preschool system. The meeting will feature updates on the Kindergarten Readiness Inventory (KRI) and presentation of the Equity Action Plan and Theory of Change.\n \nParticipants may join in person or online\, with Cantonese and Spanish interpretation available for online attendees. Register for further details. \nAbout San Francisco’s UPK Mixed Delivery Planning work \nUniversal Pre-Kindergarten (UPK) in San Francisco takes a comprehensive and multi-layered approach to enhance UPK education within a mixed-delivery system.  \nTo do this work\, San Francisco has established: \n\nA UPK Mixed Delivery Steering Committee composed of San Francisco Unified School District\, San Francisco Child Care Planning and Advisory Council (CPAC)\, Department of Early Childhood (DEC)\, Children’s Council of San Francisco\, and Wu Yee Children’s Services.\nA UPK Mixed Delivery Workgroup consisting of center-based and family child care providers\, R+Rs\, community-based organizations\, and policymakers was created to support the operational and tactical aspects of the UPK expansion in a mixed delivery system. \n\nThe next UPK meetings are scheduled for: \n\nJan 29\nMarch 26\nMay 28
URL:https://ecesf.org/event/upk-mixed-delivery-workgroup/
LOCATION:Children’s Council – 445 Church Street\, San Francisco 94114 (room 120)
CATEGORIES:ECESF Highlighted
END:VEVENT
END:VCALENDAR