BEGIN:VCALENDAR
VERSION:2.0
PRODID:-//Early Care Educators of San Francisco - ECPv6.15.20//NONSGML v1.0//EN
CALSCALE:GREGORIAN
METHOD:PUBLISH
X-ORIGINAL-URL:https://ecesf.org
X-WR-CALDESC:Events for Early Care Educators of San Francisco
REFRESH-INTERVAL;VALUE=DURATION:PT1H
X-Robots-Tag:noindex
X-PUBLISHED-TTL:PT1H
BEGIN:VTIMEZONE
TZID:America/Los_Angeles
BEGIN:DAYLIGHT
TZOFFSETFROM:-0800
TZOFFSETTO:-0700
TZNAME:PDT
DTSTART:20240310T100000
END:DAYLIGHT
BEGIN:STANDARD
TZOFFSETFROM:-0700
TZOFFSETTO:-0800
TZNAME:PST
DTSTART:20241103T090000
END:STANDARD
BEGIN:DAYLIGHT
TZOFFSETFROM:-0800
TZOFFSETTO:-0700
TZNAME:PDT
DTSTART:20250309T100000
END:DAYLIGHT
BEGIN:STANDARD
TZOFFSETFROM:-0700
TZOFFSETTO:-0800
TZNAME:PST
DTSTART:20251102T090000
END:STANDARD
BEGIN:DAYLIGHT
TZOFFSETFROM:-0800
TZOFFSETTO:-0700
TZNAME:PDT
DTSTART:20260308T100000
END:DAYLIGHT
BEGIN:STANDARD
TZOFFSETFROM:-0700
TZOFFSETTO:-0800
TZNAME:PST
DTSTART:20261101T090000
END:STANDARD
END:VTIMEZONE
BEGIN:VEVENT
DTSTART;TZID=America/Los_Angeles:20251112T093000
DTEND;TZID=America/Los_Angeles:20251112T113000
DTSTAMP:20260422T140908
CREATED:20251111T191325Z
LAST-MODIFIED:20251111T191942Z
UID:6398-1762939800-1762947000@ecesf.org
SUMMARY:CPAC General Membership Meeting
DESCRIPTION:CPAC membership and workgroup meetings are open to the public and provide important updates on Early Care and Education. 2nd Wednesday of every month\, 9:30-11:30 AM) attend in person at Children’s Council\, Room 120\, or remotely. \n  \nFull list of CPAC meetings. \nFor more information and to receive remote access information contact: CPAC Coordinator\, cpacsanfrancisco@gmail.com
URL:https://ecesf.org/event/cpac-general-membership-meeting-nov-2025/
LOCATION:Children’s Council\, Room 120\, 445 Church Street\, San Francisco\, CA\, 94114\, United States
CATEGORIES:ECESF Highlighted
ORGANIZER;CN="CPAC":MAILTO:CPACsanfrancisco@gmail.com
END:VEVENT
END:VCALENDAR